{
 "currentVersion": 11.5,
 "serviceDescription": "Mosaic 1997 Aerials for historic imagery viewer",
 "name": "General/mosaic_97_b",
 "description": "Mosaic 1997 Aerials for historic imagery viewer",
 "extent": {
  "xmin": 2078072.7070550541,
  "ymin": 651443.4681703865,
  "xmax": 2154074.078515096,
  "ymax": 699166.1819130064,
  "spatialReference": {
   "wkid": 102736,
   "latestWkid": 2274
  }
 },
 "initialExtent": {
  "xmin": 2078072.7070550541,
  "ymin": 651443.4681703865,
  "xmax": 2154074.078515096,
  "ymax": 699166.1819130064,
  "spatialReference": {
   "wkid": 102736,
   "latestWkid": 2274
  }
 },
 "fullExtent": {
  "xmin": 2078072.7070550541,
  "ymin": 651443.4681703865,
  "xmax": 2154074.078515096,
  "ymax": 699166.1819130064,
  "spatialReference": {
   "wkid": 102736,
   "latestWkid": 2274
  }
 },
 "sortableFields": "",
 "bandCount": 1,
 "pixelType": "S16",
 "minValues": [
  0
 ],
 "maxValues": [
  255
 ],
 "meanValues": [
  125.1697499782657
 ],
 "stdvValues": [
  30.809421456287257
 ],
 "serviceProperties": "Center<\/MosaicMethod>First<\/MosaicOperator>true<\/SortAscending><\/LockImageID><\/TileOrderField>0<\/TileOrderBase>0.000000<\/AvgImageSpacingX>0.000000<\/AvgImageSpacingY>0.0<\/ViewPointX>0.0<\/ViewPointY>0.0<\/ViewPointDefShiftX>0.0<\/ViewPointDefShiftY>None<\/CompressionMethod>75<\/CompressionQuality>0.010000<\/CompressionTolerance>Bilinear<\/SamplingMethod><\/ImageServiceProperties><\/ImageServer>",
 "allowedFields": "",
 "hasMultidimensions": false,
 "pixelSizeX": 3.3051259604280046,
 "pixelSizeY": 3.305125960427997,
 "meanPixelSize": 1.00740440754727,
 "datasetFormat": "GRID",
 "uncompressedSize": 664049610,
 "blockWidth": 256,
 "blockHeight": 16,
 "compressionType": "RLE",
 "bandNames": [
  "Mosaic_97"
 ],
 "allowCopy": true,
 "allowAnalysis": true,
 "itemAccess": false,
 "inspectionCapabilities": "",
 "noDataValue": -32768,
 "noDataValues": [
  -32768
 ],
 "minPixelSize": 0,
 "maxPixelSize": 0,
 "copyrightText": "",
 "serviceDataType": "esriImageServiceDataTypeGeneric",
 "serviceSourceType": "esriImageServiceSourceTypeDataset",
 "objectIdField": "",
 "fields": [],
 "capabilities": "Image,Metadata,Mensuration",
 "defaultMosaicMethod": "Center",
 "allowedMosaicMethods": "",
 "sortField": "",
 "sortValue": null,
 "sortAscending": true,
 "mosaicOperator": "First",
 "defaultCompressionQuality": 75,
 "defaultResamplingMethod": "Bilinear",
 "maxImageHeight": 4100,
 "maxImageWidth": 15000,
 "allowRasterFunction": true,
 "rasterFunctionInfos": [
  {
   "name": "None",
   "description": "",
   "help": ""
  }
 ],
 "rasterTypeInfos": [
  {
   "name": "Raster Dataset",
   "description": "Supports all ArcGIS Raster Datasets",
   "help": ""
  }
 ],
 "mensurationCapabilities": "Basic",
 "hasHistograms": true,
 "hasColormap": false,
 "hasRasterAttributeTable": true,
 "minScale": 0,
 "maxScale": 0,
 "exportTilesAllowed": false,
 "supportsStatistics": false,
 "supportsAdvancedQueries": false,
 "editFieldsInfo": null,
 "ownershipBasedAccessControlForRasters": null,
 "allowComputeTiePoints": false,
 "useStandardizedQueries": true,
 "advancedQueryCapabilities": {
  "useStandardizedQueries": true,
  "supportsStatistics": false,
  "supportsOrderBy": false,
  "supportsDistinct": false,
  "supportsPagination": false
 },
 "spatialReference": {
  "wkid": 102736,
  "latestWkid": 2274
 }
}
