{
 "currentVersion": 10.71,
 "serviceDescription": "MC4_CkvlCem",
 "name": "Planning/D2M_4_CkvlCem_Orthomosaic",
 "description": "MC4_CkvlCem",
 "extent": {
  "xmin": 633624.0080700001,
  "ymin": 4002022.16964,
  "xmax": 634350.7124100002,
  "ymax": 4003000.1104,
  "spatialReference": {
   "wkid": 32616,
   "latestWkid": 32616
  }
 },
 "initialExtent": {
  "xmin": 633624.0080700001,
  "ymin": 4002022.16964,
  "xmax": 634350.7124100002,
  "ymax": 4003000.1104,
  "spatialReference": {
   "wkid": 32616,
   "latestWkid": 32616
  }
 },
 "fullExtent": {
  "xmin": 633624.0080700001,
  "ymin": 4002022.16964,
  "xmax": 634350.7124100002,
  "ymax": 4003000.1104,
  "spatialReference": {
   "wkid": 32616,
   "latestWkid": 32616
  }
 },
 "pixelSizeX": 0.03238000000000244,
 "pixelSizeY": 0.03238000000000474,
 "bandCount": 4,
 "pixelType": "U8",
 "minPixelSize": 0,
 "maxPixelSize": 0,
 "copyrightText": "",
 "serviceDataType": "esriImageServiceDataTypeGeneric",
 "minValues": [
  1,
  1,
  1,
  255
 ],
 "maxValues": [
  255,
  255,
  255,
  255
 ],
 "meanValues": [
  123.07360733297,
  145.28677566908,
  127.18984607254,
  255
 ],
 "stdvValues": [
  48.182608344926,
  41.59368973277,
  53.085095989182,
  0
 ],
 "objectIdField": "",
 "fields": [],
 "capabilities": "Image,Metadata,Mensuration",
 "defaultMosaicMethod": "Center",
 "allowedMosaicMethods": "",
 "sortField": "",
 "sortValue": null,
 "mosaicOperator": "First",
 "defaultCompressionQuality": 75,
 "defaultResamplingMethod": "Bilinear",
 "maxImageHeight": 4100,
 "maxImageWidth": 15000,
 "allowRasterFunction": true,
 "rasterFunctionInfos": [
  {
   "name": "None",
   "description": "",
   "help": ""
  }
 ],
 "rasterTypeInfos": [
  {
   "name": "Raster Dataset",
   "description": "Supports all ArcGIS Raster Datasets",
   "help": ""
  }
 ],
 "mensurationCapabilities": "Basic",
 "hasHistograms": true,
 "hasColormap": false,
 "hasRasterAttributeTable": false,
 "minScale": 0,
 "maxScale": 0,
 "exportTilesAllowed": false,
 "hasMultidimensions": false,
 "supportsStatistics": false,
 "supportsAdvancedQueries": false,
 "editFieldsInfo": null,
 "ownershipBasedAccessControlForRasters": null,
 "allowComputeTiePoints": false,
 "useStandardizedQueries": true,
 "advancedQueryCapabilities": {
  "useStandardizedQueries": true,
  "supportsStatistics": false,
  "supportsOrderBy": false,
  "supportsDistinct": false,
  "supportsPagination": false
 },
 "spatialReference": {
  "wkid": 32616,
  "latestWkid": 32616
 }
}
