{
 "currentVersion": 10.71,
 "serviceDescription": "MA2_MainSt_Othomosaic",
 "name": "Planning/MA2_MainSt_Orthomosaic",
 "description": "MA2_MainSt_Othomosaic",
 "extent": {
  "xmin": 638308.79497,
  "ymin": 4005095.4494000003,
  "xmax": 638963.4810500001,
  "ymax": 4005803.2018000004,
  "spatialReference": {
   "wkid": 32616,
   "latestWkid": 32616
  }
 },
 "initialExtent": {
  "xmin": 638308.79497,
  "ymin": 4005095.4494000003,
  "xmax": 638963.4810500001,
  "ymax": 4005803.2018000004,
  "spatialReference": {
   "wkid": 32616,
   "latestWkid": 32616
  }
 },
 "fullExtent": {
  "xmin": 638308.79497,
  "ymin": 4005095.4494000003,
  "xmax": 638963.4810500001,
  "ymax": 4005803.2018000004,
  "spatialReference": {
   "wkid": 32616,
   "latestWkid": 32616
  }
 },
 "pixelSizeX": 0.03022000000000065,
 "pixelSizeY": 0.030220000000004868,
 "bandCount": 4,
 "pixelType": "U8",
 "minPixelSize": 0,
 "maxPixelSize": 0,
 "copyrightText": "",
 "serviceDataType": "esriImageServiceDataTypeGeneric",
 "minValues": [
  1,
  1,
  1,
  255
 ],
 "maxValues": [
  255,
  255,
  255,
  255
 ],
 "meanValues": [
  120.53869626519,
  129.4442696282,
  110.36224700538,
  255
 ],
 "stdvValues": [
  58.617433196186,
  52.462999712968,
  63.329838739801,
  0
 ],
 "objectIdField": "",
 "fields": [],
 "capabilities": "Image,Metadata,Mensuration",
 "defaultMosaicMethod": "Center",
 "allowedMosaicMethods": "",
 "sortField": "",
 "sortValue": null,
 "mosaicOperator": "First",
 "defaultCompressionQuality": 75,
 "defaultResamplingMethod": "Bilinear",
 "maxImageHeight": 4100,
 "maxImageWidth": 15000,
 "allowRasterFunction": true,
 "rasterFunctionInfos": [
  {
   "name": "None",
   "description": "",
   "help": ""
  }
 ],
 "rasterTypeInfos": [
  {
   "name": "Raster Dataset",
   "description": "Supports all ArcGIS Raster Datasets",
   "help": ""
  }
 ],
 "mensurationCapabilities": "Basic",
 "hasHistograms": true,
 "hasColormap": false,
 "hasRasterAttributeTable": false,
 "minScale": 0,
 "maxScale": 0,
 "exportTilesAllowed": false,
 "hasMultidimensions": false,
 "supportsStatistics": false,
 "supportsAdvancedQueries": false,
 "editFieldsInfo": null,
 "ownershipBasedAccessControlForRasters": null,
 "allowComputeTiePoints": false,
 "useStandardizedQueries": true,
 "advancedQueryCapabilities": {
  "useStandardizedQueries": true,
  "supportsStatistics": false,
  "supportsOrderBy": false,
  "supportsDistinct": false,
  "supportsPagination": false
 },
 "spatialReference": {
  "wkid": 32616,
  "latestWkid": 32616
 }
}
