{
 "currentVersion": 10.71,
 "serviceDescription": "MC_6_Capshaw",
 "name": "Planning/MC_6_Capshaw_Orthomosaic",
 "description": "MC_6_Capshaw",
 "extent": {
  "xmin": 634829.0226400001,
  "ymin": 4002262.11004,
  "xmax": 635674.7034000001,
  "ymax": 4002987.8263600003,
  "spatialReference": {
   "wkid": 32616,
   "latestWkid": 32616
  }
 },
 "initialExtent": {
  "xmin": 634829.0226400001,
  "ymin": 4002262.11004,
  "xmax": 635674.7034000001,
  "ymax": 4002987.8263600003,
  "spatialReference": {
   "wkid": 32616,
   "latestWkid": 32616
  }
 },
 "fullExtent": {
  "xmin": 634829.0226400001,
  "ymin": 4002262.11004,
  "xmax": 635674.7034000001,
  "ymax": 4002987.8263600003,
  "spatialReference": {
   "wkid": 32616,
   "latestWkid": 32616
  }
 },
 "pixelSizeX": 0.03188000000000066,
 "pixelSizeY": 0.03188000000000541,
 "bandCount": 4,
 "pixelType": "U8",
 "minPixelSize": 0,
 "maxPixelSize": 0,
 "copyrightText": "",
 "serviceDataType": "esriImageServiceDataTypeGeneric",
 "minValues": [
  1,
  1,
  1,
  255
 ],
 "maxValues": [
  255,
  255,
  255,
  255
 ],
 "meanValues": [
  119.43471592726,
  139.86037922394,
  119.46978581473,
  255
 ],
 "stdvValues": [
  62.364414733577,
  55.848593644508,
  63.830974718055,
  0
 ],
 "objectIdField": "",
 "fields": [],
 "capabilities": "Image,Metadata,Mensuration",
 "defaultMosaicMethod": "Center",
 "allowedMosaicMethods": "",
 "sortField": "",
 "sortValue": null,
 "mosaicOperator": "First",
 "defaultCompressionQuality": 75,
 "defaultResamplingMethod": "Bilinear",
 "maxImageHeight": 4100,
 "maxImageWidth": 15000,
 "allowRasterFunction": true,
 "rasterFunctionInfos": [
  {
   "name": "None",
   "description": "",
   "help": ""
  }
 ],
 "rasterTypeInfos": [
  {
   "name": "Raster Dataset",
   "description": "Supports all ArcGIS Raster Datasets",
   "help": ""
  }
 ],
 "mensurationCapabilities": "Basic",
 "hasHistograms": true,
 "hasColormap": false,
 "hasRasterAttributeTable": false,
 "minScale": 0,
 "maxScale": 0,
 "exportTilesAllowed": false,
 "hasMultidimensions": false,
 "supportsStatistics": false,
 "supportsAdvancedQueries": false,
 "editFieldsInfo": null,
 "ownershipBasedAccessControlForRasters": null,
 "allowComputeTiePoints": false,
 "useStandardizedQueries": true,
 "advancedQueryCapabilities": {
  "useStandardizedQueries": true,
  "supportsStatistics": false,
  "supportsOrderBy": false,
  "supportsDistinct": false,
  "supportsPagination": false
 },
 "spatialReference": {
  "wkid": 32616,
  "latestWkid": 32616
 }
}
