{
 "currentVersion": 10.71,
 "serviceDescription": "Planning/MC_8_Infinity_CED_Orthomosaic",
 "name": "Planning/MC_8_Infinity_CED_Orthomosaic",
 "description": "",
 "extent": {
  "xmin": 636255.07752,
  "ymin": 4000019.1579000005,
  "xmax": 636833.11192,
  "ymax": 4001992.1107000005,
  "spatialReference": {
   "wkid": 32616,
   "latestWkid": 32616
  }
 },
 "initialExtent": {
  "xmin": 636255.07752,
  "ymin": 4000019.1579000005,
  "xmax": 636833.11192,
  "ymax": 4001992.1107000005,
  "spatialReference": {
   "wkid": 32616,
   "latestWkid": 32616
  }
 },
 "fullExtent": {
  "xmin": 636255.07752,
  "ymin": 4000019.1579000005,
  "xmax": 636833.11192,
  "ymax": 4001992.1107000005,
  "spatialReference": {
   "wkid": 32616,
   "latestWkid": 32616
  }
 },
 "pixelSizeX": 0.03280000000000023,
 "pixelSizeY": 0.03280000000000144,
 "bandCount": 4,
 "pixelType": "U8",
 "minPixelSize": 0,
 "maxPixelSize": 0,
 "copyrightText": "",
 "serviceDataType": "esriImageServiceDataTypeGeneric",
 "minValues": [
  1,
  1,
  1,
  255
 ],
 "maxValues": [
  255,
  255,
  255,
  255
 ],
 "meanValues": [
  122.8768510596,
  145.61956450785,
  105.33271873524,
  255
 ],
 "stdvValues": [
  59.423736966937,
  53.15555356749,
  55.693887775926,
  0
 ],
 "objectIdField": "",
 "fields": [],
 "capabilities": "Image,Metadata,Mensuration",
 "defaultMosaicMethod": "Center",
 "allowedMosaicMethods": "",
 "sortField": "",
 "sortValue": null,
 "mosaicOperator": "First",
 "defaultCompressionQuality": 75,
 "defaultResamplingMethod": "Bilinear",
 "maxImageHeight": 4100,
 "maxImageWidth": 15000,
 "allowRasterFunction": true,
 "rasterFunctionInfos": [
  {
   "name": "None",
   "description": "",
   "help": ""
  }
 ],
 "rasterTypeInfos": [
  {
   "name": "Raster Dataset",
   "description": "Supports all ArcGIS Raster Datasets",
   "help": ""
  }
 ],
 "mensurationCapabilities": "Basic",
 "hasHistograms": true,
 "hasColormap": false,
 "hasRasterAttributeTable": false,
 "minScale": 0,
 "maxScale": 0,
 "exportTilesAllowed": false,
 "hasMultidimensions": false,
 "supportsStatistics": false,
 "supportsAdvancedQueries": false,
 "editFieldsInfo": null,
 "ownershipBasedAccessControlForRasters": null,
 "allowComputeTiePoints": false,
 "useStandardizedQueries": true,
 "advancedQueryCapabilities": {
  "useStandardizedQueries": true,
  "supportsStatistics": false,
  "supportsOrderBy": false,
  "supportsDistinct": false,
  "supportsPagination": false
 },
 "spatialReference": {
  "wkid": 32616,
  "latestWkid": 32616
 }
}
