{
 "currentVersion": 10.71,
 "serviceDescription": "MC_9_JohnsPlace",
 "name": "Planning/MC_9_JohnsPlace_Orthomosaic",
 "description": "MC_9_JohnsPlace",
 "extent": {
  "xmin": 632675.30159,
  "ymin": 4002893.1101000006,
  "xmax": 633830.93134,
  "ymax": 4003494.3596500005,
  "spatialReference": {
   "wkid": 32616,
   "latestWkid": 32616
  }
 },
 "initialExtent": {
  "xmin": 632675.30159,
  "ymin": 4002893.1101000006,
  "xmax": 633830.93134,
  "ymax": 4003494.3596500005,
  "spatialReference": {
   "wkid": 32616,
   "latestWkid": 32616
  }
 },
 "fullExtent": {
  "xmin": 632675.30159,
  "ymin": 4002893.1101000006,
  "xmax": 633830.93134,
  "ymax": 4003494.3596500005,
  "spatialReference": {
   "wkid": 32616,
   "latestWkid": 32616
  }
 },
 "pixelSizeX": 0.03354999999999895,
 "pixelSizeY": 0.033549999999990684,
 "bandCount": 4,
 "pixelType": "U8",
 "minPixelSize": 0,
 "maxPixelSize": 0,
 "copyrightText": "",
 "serviceDataType": "esriImageServiceDataTypeGeneric",
 "minValues": [
  1,
  1,
  1,
  255
 ],
 "maxValues": [
  255,
  255,
  255,
  255
 ],
 "meanValues": [
  122.47637965212,
  134.79668780013,
  114.64458689636,
  255
 ],
 "stdvValues": [
  68.668439831374,
  63.131435401358,
  70.490144714595,
  0
 ],
 "objectIdField": "",
 "fields": [],
 "capabilities": "Image,Metadata,Mensuration",
 "defaultMosaicMethod": "Center",
 "allowedMosaicMethods": "",
 "sortField": "",
 "sortValue": null,
 "mosaicOperator": "First",
 "defaultCompressionQuality": 75,
 "defaultResamplingMethod": "Bilinear",
 "maxImageHeight": 4100,
 "maxImageWidth": 15000,
 "allowRasterFunction": true,
 "rasterFunctionInfos": [
  {
   "name": "None",
   "description": "",
   "help": ""
  }
 ],
 "rasterTypeInfos": [
  {
   "name": "Raster Dataset",
   "description": "Supports all ArcGIS Raster Datasets",
   "help": ""
  }
 ],
 "mensurationCapabilities": "Basic",
 "hasHistograms": true,
 "hasColormap": false,
 "hasRasterAttributeTable": false,
 "minScale": 0,
 "maxScale": 0,
 "exportTilesAllowed": false,
 "hasMultidimensions": false,
 "supportsStatistics": false,
 "supportsAdvancedQueries": false,
 "editFieldsInfo": null,
 "ownershipBasedAccessControlForRasters": null,
 "allowComputeTiePoints": false,
 "useStandardizedQueries": true,
 "advancedQueryCapabilities": {
  "useStandardizedQueries": true,
  "supportsStatistics": false,
  "supportsOrderBy": false,
  "supportsDistinct": false,
  "supportsPagination": false
 },
 "spatialReference": {
  "wkid": 32616,
  "latestWkid": 32616
 }
}
