View In:
ArcGIS JavaScript
ArcGIS Online Map Viewer
ArcGIS Earth
Service Description: General/Aerial86
Name: General/Aerial86
Description:
Single Fused Map Cache: false
Extent:
XMin: 2086063.4567466727
YMin: 622125.0347954436
XMax: 2137033.49528888
YMax: 692732.173717985
Spatial Reference: 102736
(2274)
LatestVCSWkid(0)
Initial Extent:
XMin: 2086063.4567466727
YMin: 622125.0347954436
XMax: 2137033.49528888
YMax: 692732.173717985
Spatial Reference: 102736
(2274)
LatestVCSWkid(0)
Full Extent:
XMin: 2086063.4567466727
YMin: 622125.0347954436
XMax: 2137033.49528888
YMax: 692732.173717985
Spatial Reference: 102736
(2274)
LatestVCSWkid(0)
Pixel Size X: 0.6401662715675375
Pixel Size Y: 0.6401662715675361
Band Count: 3
Pixel Type: U8
RasterFunction Infos: {"rasterFunctionInfos": [{
"name": "None",
"description": "",
"help": ""
}]}
Mensuration Capabilities: Basic
Inspection Capabilities:
Has Histograms: true
Has Colormap: false
Has Multi Dimensions : false
Rendering Rule:
Min Scale: 0
Max Scale: 0
Copyright Text:
Service Data Type: esriImageServiceDataTypeRGB
Min Values: 0, 0, 0
Max Values: 255, 255, 252
Mean Values: 87.213893752215, 79.632317254454, 75.461123217081
Standard Deviation Values: 51.76800606198, 47.143267356351, 44.118249114385
Object ID Field:
Fields:
None
Default Mosaic Method: Center
Allowed Mosaic Methods:
SortField:
SortValue: null
Mosaic Operator: First
Default Compression Quality: 75
Default Resampling Method: Bilinear
Max Record Count: null
Max Image Height: 4100
Max Image Width: 15000
Max Download Image Count: null
Max Mosaic Image Count: null
Allow Raster Function: true
Allow Copy: true
Allow Analysis: true
Allow Compute TiePoints: false
Supports Statistics: false
Supports Advanced Queries: false
Use StandardizedQueries: true
Raster Type Infos:
Name: Raster Dataset
Description: Supports all ArcGIS Raster Datasets
Help:
Has Raster Attribute Table: false
Edit Fields Info: null
Ownership Based AccessControl For Rasters: null
Child Resources:
Info
Histograms
Statistics
Key Properties
Legend
Raster Function Infos
Supported Operations:
Export Image
Identify
Measure
Compute Histograms
Compute Statistics Histograms
Get Samples
Compute Class Statistics
Query Boundary
Compute Pixel Location
Compute Angles
Validate
Project