View In:
ArcGIS JavaScript
ArcGIS Online Map Viewer
ArcGIS Earth
Service Description: Aerial 1955
Name: General/Aerial_1955
Description: Aerial 1955
Single Fused Map Cache: false
Extent:
XMin: 2112772.071588442
YMin: 663367.6180811949
XMax: 2129240.1179113304
YMax: 679665.0802859172
Spatial Reference: 102736
(2274)
LatestVCSWkid(0)
Initial Extent:
XMin: 2112772.071588442
YMin: 663367.6180811949
XMax: 2129240.1179113304
YMax: 679665.0802859172
Spatial Reference: 102736
(2274)
LatestVCSWkid(0)
Full Extent:
XMin: 2112772.071588442
YMin: 663367.6180811949
XMax: 2129240.1179113304
YMax: 679665.0802859172
Spatial Reference: 102736
(2274)
LatestVCSWkid(0)
Pixel Size X: 1.6979117767695875
Pixel Size Y: 1.697829170197127
Band Count: 1
Pixel Type: U16
RasterFunction Infos: {"rasterFunctionInfos": [{
"name": "None",
"description": "",
"help": ""
}]}
Mensuration Capabilities: Basic
Inspection Capabilities:
Has Histograms: true
Has Colormap: true
Has Multi Dimensions : false
Rendering Rule:
Min Scale: 0
Max Scale: 0
Copyright Text:
Service Data Type: esriImageServiceDataTypeThematic
Min Values: 8
Max Values: 253
Mean Values: 99.933156898706
Standard Deviation Values: 42.78489836916
Object ID Field:
Fields:
None
Default Mosaic Method: Center
Allowed Mosaic Methods:
SortField:
SortValue: null
Mosaic Operator: First
Default Compression Quality: 75
Default Resampling Method: Bilinear
Max Record Count: null
Max Image Height: 4100
Max Image Width: 15000
Max Download Image Count: null
Max Mosaic Image Count: null
Allow Raster Function: true
Allow Copy: true
Allow Analysis: true
Allow Compute TiePoints: false
Supports Statistics: false
Supports Advanced Queries: false
Use StandardizedQueries: true
Raster Type Infos:
Name: Raster Dataset
Description: Supports all ArcGIS Raster Datasets
Help:
Has Raster Attribute Table: false
Edit Fields Info: null
Ownership Based AccessControl For Rasters: null
Child Resources:
Info
Histograms
Statistics
Key Properties
Color Map
Legend
Raster Function Infos
Supported Operations:
Export Image
Identify
Measure
Compute Histograms
Compute Statistics Histograms
Get Samples
Compute Class Statistics
Query Boundary
Compute Pixel Location
Compute Angles
Validate
Project