View In:
ArcGIS JavaScript
ArcGIS Online Map Viewer
ArcGIS Earth
Service Description: mosaic '81 aerials
Name: General/Aerials_81
Description: mosaic '81 aerials
Single Fused Map Cache: false
Extent:
XMin: 2086063.423397845
YMin: 627833.6020127151
XMax: 2136963.9190443293
YMax: 692732.0375841329
Spatial Reference: 102736
(2274)
LatestVCSWkid(0)
Initial Extent:
XMin: 2086063.423397845
YMin: 627833.6020127151
XMax: 2136963.9190443293
YMax: 692732.0375841329
Spatial Reference: 102736
(2274)
LatestVCSWkid(0)
Full Extent:
XMin: 2086063.423397845
YMin: 627833.6020127151
XMax: 2136963.9190443293
YMax: 692732.0375841329
Spatial Reference: 102736
(2274)
LatestVCSWkid(0)
Pixel Size X: 0.6392045264593491
Pixel Size Y: 0.6392045264593499
Band Count: 3
Pixel Type: U8
RasterFunction Infos: {"rasterFunctionInfos": [{
"name": "None",
"description": "",
"help": ""
}]}
Mensuration Capabilities: Basic
Inspection Capabilities:
Has Histograms: true
Has Colormap: false
Has Multi Dimensions : false
Rendering Rule:
Min Scale: 0
Max Scale: 0
Copyright Text:
Service Data Type: esriImageServiceDataTypeRGB
Min Values: 0, 0, 0
Max Values: 254, 250, 249
Mean Values: 100.5350881455, 91.529628379873, 85.967757480162
Standard Deviation Values: 33.830953153373, 30.36164185765, 27.508614201161
Object ID Field:
Fields:
None
Default Mosaic Method: Center
Allowed Mosaic Methods:
SortField:
SortValue: null
Mosaic Operator: First
Default Compression Quality: 75
Default Resampling Method: Bilinear
Max Record Count: null
Max Image Height: 4100
Max Image Width: 15000
Max Download Image Count: null
Max Mosaic Image Count: null
Allow Raster Function: true
Allow Copy: true
Allow Analysis: true
Allow Compute TiePoints: false
Supports Statistics: false
Supports Advanced Queries: false
Use StandardizedQueries: true
Raster Type Infos:
Name: Raster Dataset
Description: Supports all ArcGIS Raster Datasets
Help:
Has Raster Attribute Table: false
Edit Fields Info: null
Ownership Based AccessControl For Rasters: null
Child Resources:
Info
Histograms
Statistics
Key Properties
Legend
Raster Function Infos
Supported Operations:
Export Image
Identify
Measure
Compute Histograms
Compute Statistics Histograms
Get Samples
Compute Class Statistics
Query Boundary
Compute Pixel Location
Compute Angles
Validate
Project