View In:
ArcGIS JavaScript
ArcGIS Online Map Viewer
ArcGIS Earth
Service Description: General/Mosaic1990
Name: General/Mosaic1990
Description:
Single Fused Map Cache: true
Tile Info:
- Height: 256
- Width: 256
- DPI: 96
-
Levels of Detail: 12
- Format: MIXED
- Compression Quality: 75.0
- LERC Error: NaN
- Origin: X: -1.215213E8
Y: 1.530456E8
- Spatial Reference: 102736
(2274)
LatestVCSWkid(0)
Storage Info:
- Storage Format: esriMapCacheStorageModeCompactV2
- Packet Size: 128
Extent:
XMin: 2098743.8119113
YMin: 641982.8243621005
XMax: 2129164.597527606
YMax: 682054.6620705014
Spatial Reference: 102736
(2274)
LatestVCSWkid(0)
Initial Extent:
XMin: 2098743.8119113
YMin: 641982.8243621005
XMax: 2129164.597527606
YMax: 682054.6620705014
Spatial Reference: 102736
(2274)
LatestVCSWkid(0)
Full Extent:
XMin: 2098743.8119113
YMin: 641982.8243621005
XMax: 2129164.597527606
YMax: 682054.6620705014
Spatial Reference: 102736
(2274)
LatestVCSWkid(0)
Pixel Size X: 0.653732445444323
Pixel Size Y: 0.653732445444327
Band Count: 3
Pixel Type: U8
RasterFunction Infos: {"rasterFunctionInfos": [{
"name": "None",
"description": "",
"help": ""
}]}
Mensuration Capabilities: Basic
Inspection Capabilities:
Has Histograms: true
Has Colormap: false
Has Multi Dimensions : false
Rendering Rule:
Min Scale: 0
Max Scale: 0
Copyright Text:
Service Data Type: esriImageServiceDataTypeRGB
Min Values: 0, 0, 0
Max Values: 253, 251, 241
Mean Values: 109.37560472312, 97.607650249012, 87.518214665195
Standard Deviation Values: 49.024615546344, 44.557078103796, 40.473114067839
Object ID Field:
Fields:
None
Default Mosaic Method: Center
Allowed Mosaic Methods:
SortField:
SortValue: null
Mosaic Operator: First
Default Compression Quality: 75
Default Resampling Method: Bilinear
Max Record Count: null
Max Image Height: 4100
Max Image Width: 15000
Max Download Image Count: null
Max Mosaic Image Count: null
Allow Raster Function: true
Allow Copy: true
Allow Analysis: true
Allow Compute TiePoints: false
Supports Statistics: false
Supports Advanced Queries: false
Use StandardizedQueries: true
Raster Type Infos:
Name: Raster Dataset
Description: Supports all ArcGIS Raster Datasets
Help:
Has Raster Attribute Table: false
Edit Fields Info: null
Ownership Based AccessControl For Rasters: null
Child Resources:
Info
Histograms
Statistics
Key Properties
Legend
Raster Function Infos
Supported Operations:
Export Image
Identify
Measure
Compute Histograms
Compute Statistics Histograms
Get Samples
Compute Class Statistics
Query Boundary
Compute Pixel Location
Compute Angles
Validate
Project