View In:
ArcGIS JavaScript
ArcGIS Online Map Viewer
ArcGIS Earth
Service Description: Aerial Mosaic 1947 for historic aerial viewer
Name: General/aerial47
Description: Aerial Mosaic 1947 for historic aerial viewer
Single Fused Map Cache: false
Extent:
XMin: 2109019.8931274414
YMin: 661843.813401179
XMax: 2123994.1321403934
YMax: 672449.2098999023
Spatial Reference: 102736
(2274)
LatestVCSWkid(0)
Initial Extent:
XMin: 2109019.8931274414
YMin: 661843.813401179
XMax: 2123994.1321403934
YMax: 672449.2098999023
Spatial Reference: 102736
(2274)
LatestVCSWkid(0)
Full Extent:
XMin: 2109019.8931274414
YMin: 661843.813401179
XMax: 2123994.1321403934
YMax: 672449.2098999023
Spatial Reference: 102736
(2274)
LatestVCSWkid(0)
Pixel Size X: 2.5036346786410237
Pixel Size Y: 2.503634678641007
Band Count: 3
Pixel Type: S16
RasterFunction Infos: {"rasterFunctionInfos": [{
"name": "None",
"description": "",
"help": ""
}]}
Mensuration Capabilities:
Inspection Capabilities:
Has Histograms: true
Has Colormap: false
Has Multi Dimensions : false
Rendering Rule:
Min Scale: 0
Max Scale: 0
Copyright Text:
Service Data Type: esriImageServiceDataTypeGeneric
Min Values: 0, 0, 0
Max Values: 255, 255, 255
Mean Values: 107.29713086611605, 96.92964480533396, 92.14842938571161
Standard Deviation Values: 55.18654595350878, 53.138074546440095, 50.28947332281411
Object ID Field:
Fields:
None
Default Mosaic Method: Center
Allowed Mosaic Methods:
SortField:
SortValue: null
Mosaic Operator: First
Default Compression Quality: 75
Default Resampling Method: Bilinear
Max Record Count: null
Max Image Height: 4100
Max Image Width: 15000
Max Download Image Count: null
Max Mosaic Image Count: null
Allow Raster Function: true
Allow Copy: true
Allow Analysis: true
Allow Compute TiePoints: false
Supports Statistics: false
Supports Advanced Queries: false
Use StandardizedQueries: true
Raster Type Infos:
Name: Raster Dataset
Description: Supports all ArcGIS Raster Datasets
Help:
Has Raster Attribute Table: false
Edit Fields Info: null
Ownership Based AccessControl For Rasters: null
Child Resources:
Info
Histograms
Statistics
Key Properties
Legend
Raster Function Infos
Supported Operations:
Export Image
Identify
Compute Histograms
Compute Statistics Histograms
Get Samples
Compute Class Statistics
Query Boundary
Compute Pixel Location
Compute Angles
Validate
Project