View In:
ArcGIS JavaScript
ArcGIS Online Map Viewer
ArcGIS Earth
Service Description: Mosaic '72 Aerials
Name: General/mosaic_72
Description: Mosaic '72 Aerials
Single Fused Map Cache: false
Extent:
XMin: -9530801.867218371
YMin: 4310990.863548713
XMax: -9509575.625386063
YMax: 4329690.488697855
Spatial Reference: 102100
(3857)
LatestVCSWkid(0)
Initial Extent:
XMin: -9530801.867218371
YMin: 4310990.863548713
XMax: -9509575.625386063
YMax: 4329690.488697855
Spatial Reference: 102100
(3857)
LatestVCSWkid(0)
Full Extent:
XMin: -9530801.867218371
YMin: 4310990.863548713
XMax: -9509575.625386063
YMax: 4329690.488697855
Spatial Reference: 102100
(3857)
LatestVCSWkid(0)
Pixel Size X: 0.4653461725932451
Pixel Size Y: 0.46534617259324335
Band Count: 3
Pixel Type: S16
RasterFunction Infos: {"rasterFunctionInfos": [{
"name": "None",
"description": "",
"help": ""
}]}
Mensuration Capabilities: Basic
Inspection Capabilities:
Has Histograms: true
Has Colormap: false
Has Multi Dimensions : false
Rendering Rule:
Min Scale: 0
Max Scale: 0
Copyright Text:
Service Data Type: esriImageServiceDataTypeGeneric
Min Values: 0, 0, 0
Max Values: 255, 255, 255
Mean Values: 142.65583269366095, 133.8962033581322, 135.0148639410204
Standard Deviation Values: 49.08687456934213, 47.95099674777677, 46.593834190085545
Object ID Field:
Fields:
None
Default Mosaic Method: Center
Allowed Mosaic Methods:
SortField:
SortValue: null
Mosaic Operator: First
Default Compression Quality: 75
Default Resampling Method: Bilinear
Max Record Count: null
Max Image Height: 4100
Max Image Width: 15000
Max Download Image Count: null
Max Mosaic Image Count: null
Allow Raster Function: true
Allow Copy: true
Allow Analysis: true
Allow Compute TiePoints: false
Supports Statistics: false
Supports Advanced Queries: false
Use StandardizedQueries: true
Raster Type Infos:
Name: Raster Dataset
Description: Supports all ArcGIS Raster Datasets
Help:
Has Raster Attribute Table: false
Edit Fields Info: null
Ownership Based AccessControl For Rasters: null
Child Resources:
Info
Histograms
Statistics
Key Properties
Legend
Raster Function Infos
Supported Operations:
Export Image
Identify
Measure
Compute Histograms
Compute Statistics Histograms
Get Samples
Compute Class Statistics
Query Boundary
Compute Pixel Location
Compute Angles
Validate
Project