View In:
ArcGIS JavaScript
ArcGIS Online Map Viewer
ArcGIS Earth
Service Description: Mosaic of 1966 Aerials - WMS Enabled
Name: General/msc_66
Description: Mosaic of 1966 Aerials - WMS Enabled
Single Fused Map Cache: false
Extent:
XMin: 2101794.2330932617
YMin: 648707.2872413109
XMax: 2126035.8388197813
YMax: 679269.2026977539
Spatial Reference: 102736
(2274)
LatestVCSWkid(0)
Initial Extent:
XMin: 2101794.2330932617
YMin: 648707.2872413109
XMax: 2126035.8388197813
YMax: 679269.2026977539
Spatial Reference: 102736
(2274)
LatestVCSWkid(0)
Full Extent:
XMin: 2101794.2330932617
YMin: 648707.2872413109
XMax: 2126035.8388197813
YMax: 679269.2026977539
Spatial Reference: 102736
(2274)
LatestVCSWkid(0)
Pixel Size X: 3.300422835468972
Pixel Size Y: 3.300422835469004
Band Count: 3
Pixel Type: S16
RasterFunction Infos: {"rasterFunctionInfos": [{
"name": "None",
"description": "",
"help": ""
}]}
Mensuration Capabilities:
Inspection Capabilities:
Has Histograms: true
Has Colormap: false
Has Multi Dimensions : false
Rendering Rule:
Min Scale: 0
Max Scale: 0
Copyright Text:
Service Data Type: esriImageServiceDataTypeGeneric
Min Values: 0, 0, 0
Max Values: 255, 255, 255
Mean Values: 154.48102417559753, 147.04996566756336, 141.61202016123386
Standard Deviation Values: 52.913819167011084, 51.197630664177616, 49.02035436208395
Object ID Field:
Fields:
None
Default Mosaic Method: Center
Allowed Mosaic Methods:
SortField:
SortValue: null
Mosaic Operator: First
Default Compression Quality: 75
Default Resampling Method: Bilinear
Max Record Count: null
Max Image Height: 4100
Max Image Width: 15000
Max Download Image Count: null
Max Mosaic Image Count: null
Allow Raster Function: true
Allow Copy: true
Allow Analysis: true
Allow Compute TiePoints: false
Supports Statistics: false
Supports Advanced Queries: false
Use StandardizedQueries: true
Raster Type Infos:
Name: Raster Dataset
Description: Supports all ArcGIS Raster Datasets
Help:
Has Raster Attribute Table: false
Edit Fields Info: null
Ownership Based AccessControl For Rasters: null
Child Resources:
Info
Histograms
Statistics
Key Properties
Legend
Raster Function Infos
Supported Operations:
Export Image
Identify
Compute Histograms
Compute Statistics Histograms
Get Samples
Compute Class Statistics
Query Boundary
Compute Pixel Location
Compute Angles
Validate
Project