View In:
ArcGIS JavaScript
ArcGIS Online Map Viewer
ArcGIS Earth
ArcMap
View Footprint In:
ArcGIS Online Map Viewer
Service Description: MA_1_BurtonBr_Orthomosaic
Name: Planning/MA_1_BurtonBr_Orthomosaic
Description: MA_1_BurtonBr_Orthomosaic
Single Fused Map Cache: false
Extent:
XMin: 638289.68284
YMin: 4004685.9100800003
XMax: 639148.37344
YMax: 4005342.5539200003
Spatial Reference: 32616
(32616)
Initial Extent:
XMin: 638289.68284
YMin: 4004685.9100800003
XMax: 639148.37344
YMax: 4005342.5539200003
Spatial Reference: 32616
(32616)
Full Extent:
XMin: 638289.68284
YMin: 4004685.9100800003
XMax: 639148.37344
YMax: 4005342.5539200003
Spatial Reference: 32616
(32616)
Pixel Size X: 0.032519999999998966
Pixel Size Y: 0.03252000000000165
Band Count: 4
Pixel Type: U8
RasterFunction Infos: {"rasterFunctionInfos": [{
"name": "None",
"description": "",
"help": ""
}]}
Mensuration Capabilities: Basic
Has Histograms: true
Has Colormap: false
Has Multi Dimensions : false
Rendering Rule:
Min Scale: 0
Max Scale: 0
Copyright Text:
Service Data Type: esriImageServiceDataTypeGeneric
Min Values: 1, 1, 1, 255
Max Values: 255, 255, 255, 255
Mean Values: 139.4002715859, 148.06688985199, 123.20363329661, 255
Standard Deviation Values: 56.785146420124, 51.426136146427, 62.161617857777, 0
Object ID Field:
Fields:
None
Default Mosaic Method: Center
Allowed Mosaic Methods:
SortField:
SortValue: null
Mosaic Operator: First
Default Compression Quality: 75
Default Resampling Method: Bilinear
Max Record Count: null
Max Image Height: 4100
Max Image Width: 15000
Max Download Image Count: null
Max Mosaic Image Count: null
Allow Raster Function: true
Allow Compute TiePoints: false
Supports Statistics: false
Supports Advanced Queries: false
Use StandardizedQueries: true
Raster Type Infos:
Name: Raster Dataset
Description: Supports all ArcGIS Raster Datasets
Help:
Has Raster Attribute Table: false
Edit Fields Info: null
Ownership Based AccessControl For Rasters: null
Child Resources:
Info
Histograms
Key Properties
Legend
MultiDimensionalInfo
rasterFunctionInfos
Supported Operations:
Export Image
Identify
Measure
Compute Histograms
Compute Statistics Histograms
Get Samples
Compute Class Statistics
Query Boundary
Compute Pixel Location