View In:
ArcGIS JavaScript
ArcGIS Online Map Viewer
ArcGIS Earth
ArcMap
View Footprint In:
ArcGIS Online Map Viewer
Service Description: MC5_DentonAve_Orthomosaic
Name: Planning/MC5c_DentonAve_Orthomosaic
Description: MC5_DentonAve_Orthomosaic
Single Fused Map Cache: false
Extent:
XMin: 634944.1749000001
YMin: 4002812.8674200005
XMax: 635698.9926000001
YMax: 4003573.2235200005
Spatial Reference: 32616
(32616)
Initial Extent:
XMin: 634944.1749000001
YMin: 4002812.8674200005
XMax: 635698.9926000001
YMax: 4003573.2235200005
Spatial Reference: 32616
(32616)
Full Extent:
XMin: 634944.1749000001
YMin: 4002812.8674200005
XMax: 635698.9926000001
YMax: 4003573.2235200005
Spatial Reference: 32616
(32616)
Pixel Size X: 0.030100000000000564
Pixel Size Y: 0.030099999999999027
Band Count: 4
Pixel Type: U8
RasterFunction Infos: {"rasterFunctionInfos": [{
"name": "None",
"description": "",
"help": ""
}]}
Mensuration Capabilities: Basic
Has Histograms: true
Has Colormap: false
Has Multi Dimensions : false
Rendering Rule:
Min Scale: 0
Max Scale: 0
Copyright Text:
Service Data Type: esriImageServiceDataTypeGeneric
Min Values: 1, 1, 1, 255
Max Values: 255, 255, 255, 255
Mean Values: 127.30333724187, 145.52089730251, 119.78392191996, 255
Standard Deviation Values: 55.926437814579, 48.929456769147, 61.102306547156, 0
Object ID Field:
Fields:
None
Default Mosaic Method: Center
Allowed Mosaic Methods:
SortField:
SortValue: null
Mosaic Operator: First
Default Compression Quality: 75
Default Resampling Method: Bilinear
Max Record Count: null
Max Image Height: 4100
Max Image Width: 15000
Max Download Image Count: null
Max Mosaic Image Count: null
Allow Raster Function: true
Allow Compute TiePoints: false
Supports Statistics: false
Supports Advanced Queries: false
Use StandardizedQueries: true
Raster Type Infos:
Name: Raster Dataset
Description: Supports all ArcGIS Raster Datasets
Help:
Has Raster Attribute Table: false
Edit Fields Info: null
Ownership Based AccessControl For Rasters: null
Child Resources:
Info
Histograms
Key Properties
Legend
MultiDimensionalInfo
rasterFunctionInfos
Supported Operations:
Export Image
Identify
Measure
Compute Histograms
Compute Statistics Histograms
Get Samples
Compute Class Statistics
Query Boundary
Compute Pixel Location