View In:
ArcGIS JavaScript
ArcGIS Online Map Viewer
ArcGIS Earth
ArcMap
View Footprint In:
ArcGIS Online Map Viewer
Service Description: Drone Imagery for W Stevens St
Name: Planning/MC7_WStevens_Orthomosaic
Description: Drone Imagery for W Stevens St
Single Fused Map Cache: false
Extent:
XMin: 632622.14861
YMin: 4002494.0447600004
XMax: 633816.0671100001
YMax: 4003048.5386900003
Spatial Reference: 32616
(32616)
Initial Extent:
XMin: 632622.14861
YMin: 4002494.0447600004
XMax: 633816.0671100001
YMax: 4003048.5386900003
Spatial Reference: 32616
(32616)
Full Extent:
XMin: 632622.14861
YMin: 4002494.0447600004
XMax: 633816.0671100001
YMax: 4003048.5386900003
Spatial Reference: 32616
(32616)
Pixel Size X: 0.03349000000000081
Pixel Size Y: 0.03348999999999278
Band Count: 4
Pixel Type: U8
RasterFunction Infos: {"rasterFunctionInfos": [{
"name": "None",
"description": "",
"help": ""
}]}
Mensuration Capabilities: Basic
Has Histograms: false
Has Colormap: false
Has Multi Dimensions : false
Rendering Rule:
Min Scale: 0
Max Scale: 0
Copyright Text:
Service Data Type: esriImageServiceDataTypeGeneric
Min Values: N/A
Max Values: N/A
Mean Values: N/A
Standard Deviation Values: N/A
Object ID Field:
Fields:
None
Default Mosaic Method: Center
Allowed Mosaic Methods:
SortField:
SortValue: null
Mosaic Operator: First
Default Compression Quality: 75
Default Resampling Method: Bilinear
Max Record Count: null
Max Image Height: 4100
Max Image Width: 15000
Max Download Image Count: null
Max Mosaic Image Count: null
Allow Raster Function: true
Allow Compute TiePoints: false
Supports Statistics: false
Supports Advanced Queries: false
Use StandardizedQueries: true
Raster Type Infos:
Name: Raster Dataset
Description: Supports all ArcGIS Raster Datasets
Help:
Has Raster Attribute Table: false
Edit Fields Info: null
Ownership Based AccessControl For Rasters: null
Child Resources:
Info
Key Properties
Legend
MultiDimensionalInfo
rasterFunctionInfos
Supported Operations:
Export Image
Identify
Measure
Compute Histograms
Compute Statistics Histograms
Get Samples
Compute Class Statistics
Query Boundary
Compute Pixel Location