View In:
ArcGIS JavaScript
ArcGIS Online Map Viewer
ArcGIS Earth
ArcMap
View Footprint In:
ArcGIS Online Map Viewer
Service Description: Map Cookeville 11 City Lake 1
Name: Planning/MC_11_CityLake1_Orthomosaic
Description: Map Cookeville 11 City Lake 1
Single Fused Map Cache: false
Extent:
XMin: 639486.4455
YMin: 3998070.72342
XMax: 640252.50156
YMax: 3998931.17224
Spatial Reference: 32616
(32616)
Initial Extent:
XMin: 639486.4455
YMin: 3998070.72342
XMax: 640252.50156
YMax: 3998931.17224
Spatial Reference: 32616
(32616)
Full Extent:
XMin: 639486.4455
YMin: 3998070.72342
XMax: 640252.50156
YMax: 3998931.17224
Spatial Reference: 32616
(32616)
Pixel Size X: 0.029259999999998988
Pixel Size Y: 0.029260000000001656
Band Count: 4
Pixel Type: U8
RasterFunction Infos: {"rasterFunctionInfos": [{
"name": "None",
"description": "",
"help": ""
}]}
Mensuration Capabilities: Basic
Has Histograms: false
Has Colormap: false
Has Multi Dimensions : false
Rendering Rule:
Min Scale: 0
Max Scale: 0
Copyright Text:
Service Data Type: esriImageServiceDataTypeGeneric
Min Values: N/A
Max Values: N/A
Mean Values: N/A
Standard Deviation Values: N/A
Object ID Field:
Fields:
None
Default Mosaic Method: Center
Allowed Mosaic Methods:
SortField:
SortValue: null
Mosaic Operator: First
Default Compression Quality: 75
Default Resampling Method: Bilinear
Max Record Count: null
Max Image Height: 4100
Max Image Width: 15000
Max Download Image Count: null
Max Mosaic Image Count: null
Allow Raster Function: true
Allow Compute TiePoints: false
Supports Statistics: false
Supports Advanced Queries: false
Use StandardizedQueries: true
Raster Type Infos:
Name: Raster Dataset
Description: Supports all ArcGIS Raster Datasets
Help:
Has Raster Attribute Table: false
Edit Fields Info: null
Ownership Based AccessControl For Rasters: null
Child Resources:
Info
Key Properties
Legend
MultiDimensionalInfo
rasterFunctionInfos
Supported Operations:
Export Image
Identify
Measure
Compute Histograms
Compute Statistics Histograms
Get Samples
Compute Class Statistics
Query Boundary
Compute Pixel Location