View In:
ArcGIS JavaScript
ArcGIS Online Map Viewer
ArcGIS Earth
ArcMap
View Footprint In:
ArcGIS Online Map Viewer
Service Description: MC_3_WalnutPark
Name: Planning/MC_3_Walnut_St_Park_Orthomosaic
Description: MC_3_WalnutPark
Single Fused Map Cache: false
Extent:
XMin: 634223.21203
YMin: 4002202.0356800007
XMax: 634952.21293
YMax: 4002983.4345700005
Spatial Reference: 32616
(32616)
Initial Extent:
XMin: 634223.21203
YMin: 4002202.0356800007
XMax: 634952.21293
YMax: 4002983.4345700005
Spatial Reference: 32616
(32616)
Full Extent:
XMin: 634223.21203
YMin: 4002202.0356800007
XMax: 634952.21293
YMax: 4002983.4345700005
Spatial Reference: 32616
(32616)
Pixel Size X: 0.033609999999999286
Pixel Size Y: 0.03360999999999297
Band Count: 4
Pixel Type: U8
RasterFunction Infos: {"rasterFunctionInfos": [{
"name": "None",
"description": "",
"help": ""
}]}
Mensuration Capabilities: Basic
Has Histograms: false
Has Colormap: false
Has Multi Dimensions : false
Rendering Rule:
Min Scale: 0
Max Scale: 0
Copyright Text:
Service Data Type: esriImageServiceDataTypeGeneric
Min Values: N/A
Max Values: N/A
Mean Values: N/A
Standard Deviation Values: N/A
Object ID Field:
Fields:
None
Default Mosaic Method: Center
Allowed Mosaic Methods:
SortField:
SortValue: null
Mosaic Operator: First
Default Compression Quality: 75
Default Resampling Method: Bilinear
Max Record Count: null
Max Image Height: 4100
Max Image Width: 15000
Max Download Image Count: null
Max Mosaic Image Count: null
Allow Raster Function: true
Allow Compute TiePoints: false
Supports Statistics: false
Supports Advanced Queries: false
Use StandardizedQueries: true
Raster Type Infos:
Name: Raster Dataset
Description: Supports all ArcGIS Raster Datasets
Help:
Has Raster Attribute Table: false
Edit Fields Info: null
Ownership Based AccessControl For Rasters: null
Child Resources:
Info
Key Properties
Legend
MultiDimensionalInfo
rasterFunctionInfos
Supported Operations:
Export Image
Identify
Measure
Compute Histograms
Compute Statistics Histograms
Get Samples
Compute Class Statistics
Query Boundary
Compute Pixel Location