View In:
ArcGIS JavaScript
ArcGIS Online Map Viewer
ArcGIS Earth
ArcMap
View Footprint In:
ArcGIS Online Map Viewer
Service Description: MC_TNave_5thInterchange_Update
Name: Planning/MC_FifthInterchange_Orthomosaic
Description: MC_TNave_5thInterchange_Update
Single Fused Map Cache: false
Extent:
XMin: 627418.33093
YMin: 4000176.61974
XMax: 628356.27748
YMax: 4000690.58289
Spatial Reference: 32616
(32616)
Initial Extent:
XMin: 627418.33093
YMin: 4000176.61974
XMax: 628356.27748
YMax: 4000690.58289
Spatial Reference: 32616
(32616)
Full Extent:
XMin: 627418.33093
YMin: 4000176.61974
XMax: 628356.27748
YMax: 4000690.58289
Spatial Reference: 32616
(32616)
Pixel Size X: 0.029549999999999788
Pixel Size Y: 0.02955000000001148
Band Count: 4
Pixel Type: U8
RasterFunction Infos: {"rasterFunctionInfos": [{
"name": "None",
"description": "",
"help": ""
}]}
Mensuration Capabilities: Basic
Has Histograms: false
Has Colormap: false
Has Multi Dimensions : false
Rendering Rule:
Min Scale: 0
Max Scale: 0
Copyright Text:
Service Data Type: esriImageServiceDataTypeGeneric
Min Values: N/A
Max Values: N/A
Mean Values: N/A
Standard Deviation Values: N/A
Object ID Field:
Fields:
None
Default Mosaic Method: Center
Allowed Mosaic Methods:
SortField:
SortValue: null
Mosaic Operator: First
Default Compression Quality: 75
Default Resampling Method: Bilinear
Max Record Count: null
Max Image Height: 4100
Max Image Width: 15000
Max Download Image Count: null
Max Mosaic Image Count: null
Allow Raster Function: true
Allow Compute TiePoints: false
Supports Statistics: false
Supports Advanced Queries: false
Use StandardizedQueries: true
Raster Type Infos:
Name: Raster Dataset
Description: Supports all ArcGIS Raster Datasets
Help:
Has Raster Attribute Table: false
Edit Fields Info: null
Ownership Based AccessControl For Rasters: null
Child Resources:
Info
Key Properties
Legend
MultiDimensionalInfo
rasterFunctionInfos
Supported Operations:
Export Image
Identify
Measure
Compute Histograms
Compute Statistics Histograms
Get Samples
Compute Class Statistics
Query Boundary
Compute Pixel Location