View In:
ArcGIS JavaScript
ArcGIS Online Map Viewer
ArcGIS Earth
ArcMap
View Footprint In:
ArcGIS Online Map Viewer
Service Description: MC_ShoppesEaglePt_Ortho
Name: Planning/MC_ShoppesEaglePt_Orthomosaic
Description: MC_ShoppesEaglePt_Ortho
Single Fused Map Cache: false
Extent:
XMin: 633838.83851
YMin: 4000212.35704
XMax: 634400.7759
YMax: 4000806.1465100003
Spatial Reference: 32616
(32616)
Initial Extent:
XMin: 633838.83851
YMin: 4000212.35704
XMax: 634400.7759
YMax: 4000806.1465100003
Spatial Reference: 32616
(32616)
Full Extent:
XMin: 633838.83851
YMin: 4000212.35704
XMax: 634400.7759
YMax: 4000806.1465100003
Spatial Reference: 32616
(32616)
Pixel Size X: 0.034029999999998624
Pixel Size Y: 0.03403000000001103
Band Count: 4
Pixel Type: U8
RasterFunction Infos: {"rasterFunctionInfos": [{
"name": "None",
"description": "",
"help": ""
}]}
Mensuration Capabilities: Basic
Has Histograms: true
Has Colormap: false
Has Multi Dimensions : false
Rendering Rule:
Min Scale: 0
Max Scale: 0
Copyright Text:
Service Data Type: esriImageServiceDataTypeGeneric
Min Values: 1, 1, 1, 255
Max Values: 255, 255, 255, 255
Mean Values: 125.97764871324, 123.494400988, 120.37781669275, 255
Standard Deviation Values: 52.949852551013, 49.90991547799, 57.89529722256, 0
Object ID Field:
Fields:
None
Default Mosaic Method: Center
Allowed Mosaic Methods:
SortField:
SortValue: null
Mosaic Operator: First
Default Compression Quality: 75
Default Resampling Method: Bilinear
Max Record Count: null
Max Image Height: 4100
Max Image Width: 15000
Max Download Image Count: null
Max Mosaic Image Count: null
Allow Raster Function: true
Allow Compute TiePoints: false
Supports Statistics: false
Supports Advanced Queries: false
Use StandardizedQueries: true
Raster Type Infos:
Name: Raster Dataset
Description: Supports all ArcGIS Raster Datasets
Help:
Has Raster Attribute Table: false
Edit Fields Info: null
Ownership Based AccessControl For Rasters: null
Child Resources:
Info
Histograms
Key Properties
Legend
MultiDimensionalInfo
rasterFunctionInfos
Supported Operations:
Export Image
Identify
Measure
Compute Histograms
Compute Statistics Histograms
Get Samples
Compute Class Statistics
Query Boundary
Compute Pixel Location