View In:
ArcGIS JavaScript
ArcGIS Online Map Viewer
ArcGIS Earth
Service Description: Mosaic 1997 Aerials for historic imagery viewer
Name: General/mosaic_97_b
Description: Mosaic 1997 Aerials for historic imagery viewer
Single Fused Map Cache: false
Extent:
XMin: 2078072.7070550541
YMin: 651443.4681703865
XMax: 2154074.078515096
YMax: 699166.1819130064
Spatial Reference: 102736
(2274)
LatestVCSWkid(0)
Initial Extent:
XMin: 2078072.7070550541
YMin: 651443.4681703865
XMax: 2154074.078515096
YMax: 699166.1819130064
Spatial Reference: 102736
(2274)
LatestVCSWkid(0)
Full Extent:
XMin: 2078072.7070550541
YMin: 651443.4681703865
XMax: 2154074.078515096
YMax: 699166.1819130064
Spatial Reference: 102736
(2274)
LatestVCSWkid(0)
Pixel Size X: 3.3051259604280046
Pixel Size Y: 3.305125960427997
Band Count: 1
Pixel Type: S16
RasterFunction Infos: {"rasterFunctionInfos": [{
"name": "None",
"description": "",
"help": ""
}]}
Mensuration Capabilities: Basic
Inspection Capabilities:
Has Histograms: true
Has Colormap: false
Has Multi Dimensions : false
Rendering Rule:
Min Scale: 0
Max Scale: 0
Copyright Text:
Service Data Type: esriImageServiceDataTypeGeneric
Min Values: 0
Max Values: 255
Mean Values: 125.1697499782657
Standard Deviation Values: 30.809421456287257
Object ID Field:
Fields:
None
Default Mosaic Method: Center
Allowed Mosaic Methods:
SortField:
SortValue: null
Mosaic Operator: First
Default Compression Quality: 75
Default Resampling Method: Bilinear
Max Record Count: null
Max Image Height: 4100
Max Image Width: 15000
Max Download Image Count: null
Max Mosaic Image Count: null
Allow Raster Function: true
Allow Copy: true
Allow Analysis: true
Allow Compute TiePoints: false
Supports Statistics: false
Supports Advanced Queries: false
Use StandardizedQueries: true
Raster Type Infos:
Name: Raster Dataset
Description: Supports all ArcGIS Raster Datasets
Help:
Has Raster Attribute Table: true
Edit Fields Info: null
Ownership Based AccessControl For Rasters: null
Child Resources:
Info
Raster Attribute Table
Histograms
Statistics
Key Properties
Legend
Raster Function Infos
Supported Operations:
Export Image
Identify
Measure
Compute Histograms
Compute Statistics Histograms
Get Samples
Compute Class Statistics
Query Boundary
Compute Pixel Location
Compute Angles
Validate
Project