View In:
ArcGIS JavaScript
ArcGIS Online Map Viewer
ArcGIS Earth
ArcMap
View Footprint In:
ArcGIS Online Map Viewer
Service Description: MC4_CkvlCem
Name: Planning/D2M_4_CkvlCem_Orthomosaic
Description: MC4_CkvlCem
Single Fused Map Cache: false
Extent:
XMin: 633624.0080700001
YMin: 4002022.16964
XMax: 634350.7124100002
YMax: 4003000.1104
Spatial Reference: 32616
(32616)
Initial Extent:
XMin: 633624.0080700001
YMin: 4002022.16964
XMax: 634350.7124100002
YMax: 4003000.1104
Spatial Reference: 32616
(32616)
Full Extent:
XMin: 633624.0080700001
YMin: 4002022.16964
XMax: 634350.7124100002
YMax: 4003000.1104
Spatial Reference: 32616
(32616)
Pixel Size X: 0.03238000000000244
Pixel Size Y: 0.03238000000000474
Band Count: 4
Pixel Type: U8
RasterFunction Infos: {"rasterFunctionInfos": [{
"name": "None",
"description": "",
"help": ""
}]}
Mensuration Capabilities: Basic
Has Histograms: true
Has Colormap: false
Has Multi Dimensions : false
Rendering Rule:
Min Scale: 0
Max Scale: 0
Copyright Text:
Service Data Type: esriImageServiceDataTypeGeneric
Min Values: 1, 1, 1, 255
Max Values: 255, 255, 255, 255
Mean Values: 123.07360733297, 145.28677566908, 127.18984607254, 255
Standard Deviation Values: 48.182608344926, 41.59368973277, 53.085095989182, 0
Object ID Field:
Fields:
None
Default Mosaic Method: Center
Allowed Mosaic Methods:
SortField:
SortValue: null
Mosaic Operator: First
Default Compression Quality: 75
Default Resampling Method: Bilinear
Max Record Count: null
Max Image Height: 4100
Max Image Width: 15000
Max Download Image Count: null
Max Mosaic Image Count: null
Allow Raster Function: true
Allow Compute TiePoints: false
Supports Statistics: false
Supports Advanced Queries: false
Use StandardizedQueries: true
Raster Type Infos:
Name: Raster Dataset
Description: Supports all ArcGIS Raster Datasets
Help:
Has Raster Attribute Table: false
Edit Fields Info: null
Ownership Based AccessControl For Rasters: null
Child Resources:
Info
Histograms
Key Properties
Legend
MultiDimensionalInfo
rasterFunctionInfos
Supported Operations:
Export Image
Identify
Measure
Compute Histograms
Compute Statistics Histograms
Get Samples
Compute Class Statistics
Query Boundary
Compute Pixel Location