View In:
ArcGIS JavaScript
ArcGIS Online Map Viewer
ArcGIS Earth
ArcMap
View Footprint In:
ArcGIS Online Map Viewer
Service Description: MA2_MainSt_Othomosaic
Name: Planning/MA2_MainSt_Orthomosaic
Description: MA2_MainSt_Othomosaic
Single Fused Map Cache: false
Extent:
XMin: 638308.79497
YMin: 4005095.4494000003
XMax: 638963.4810500001
YMax: 4005803.2018000004
Spatial Reference: 32616
(32616)
Initial Extent:
XMin: 638308.79497
YMin: 4005095.4494000003
XMax: 638963.4810500001
YMax: 4005803.2018000004
Spatial Reference: 32616
(32616)
Full Extent:
XMin: 638308.79497
YMin: 4005095.4494000003
XMax: 638963.4810500001
YMax: 4005803.2018000004
Spatial Reference: 32616
(32616)
Pixel Size X: 0.03022000000000065
Pixel Size Y: 0.030220000000004868
Band Count: 4
Pixel Type: U8
RasterFunction Infos: {"rasterFunctionInfos": [{
"name": "None",
"description": "",
"help": ""
}]}
Mensuration Capabilities: Basic
Has Histograms: true
Has Colormap: false
Has Multi Dimensions : false
Rendering Rule:
Min Scale: 0
Max Scale: 0
Copyright Text:
Service Data Type: esriImageServiceDataTypeGeneric
Min Values: 1, 1, 1, 255
Max Values: 255, 255, 255, 255
Mean Values: 120.53869626519, 129.4442696282, 110.36224700538, 255
Standard Deviation Values: 58.617433196186, 52.462999712968, 63.329838739801, 0
Object ID Field:
Fields:
None
Default Mosaic Method: Center
Allowed Mosaic Methods:
SortField:
SortValue: null
Mosaic Operator: First
Default Compression Quality: 75
Default Resampling Method: Bilinear
Max Record Count: null
Max Image Height: 4100
Max Image Width: 15000
Max Download Image Count: null
Max Mosaic Image Count: null
Allow Raster Function: true
Allow Compute TiePoints: false
Supports Statistics: false
Supports Advanced Queries: false
Use StandardizedQueries: true
Raster Type Infos:
Name: Raster Dataset
Description: Supports all ArcGIS Raster Datasets
Help:
Has Raster Attribute Table: false
Edit Fields Info: null
Ownership Based AccessControl For Rasters: null
Child Resources:
Info
Histograms
Key Properties
Legend
MultiDimensionalInfo
rasterFunctionInfos
Supported Operations:
Export Image
Identify
Measure
Compute Histograms
Compute Statistics Histograms
Get Samples
Compute Class Statistics
Query Boundary
Compute Pixel Location