View In:
ArcGIS JavaScript
ArcGIS Online Map Viewer
ArcGIS Earth
ArcMap
View Footprint In:
ArcGIS Online Map Viewer
Service Description: MC_6_Capshaw
Name: Planning/MC_6_Capshaw_Orthomosaic
Description: MC_6_Capshaw
Single Fused Map Cache: false
Extent:
XMin: 634829.0226400001
YMin: 4002262.11004
XMax: 635674.7034000001
YMax: 4002987.8263600003
Spatial Reference: 32616
(32616)
Initial Extent:
XMin: 634829.0226400001
YMin: 4002262.11004
XMax: 635674.7034000001
YMax: 4002987.8263600003
Spatial Reference: 32616
(32616)
Full Extent:
XMin: 634829.0226400001
YMin: 4002262.11004
XMax: 635674.7034000001
YMax: 4002987.8263600003
Spatial Reference: 32616
(32616)
Pixel Size X: 0.03188000000000066
Pixel Size Y: 0.03188000000000541
Band Count: 4
Pixel Type: U8
RasterFunction Infos: {"rasterFunctionInfos": [{
"name": "None",
"description": "",
"help": ""
}]}
Mensuration Capabilities: Basic
Has Histograms: true
Has Colormap: false
Has Multi Dimensions : false
Rendering Rule:
Min Scale: 0
Max Scale: 0
Copyright Text:
Service Data Type: esriImageServiceDataTypeGeneric
Min Values: 1, 1, 1, 255
Max Values: 255, 255, 255, 255
Mean Values: 119.43471592726, 139.86037922394, 119.46978581473, 255
Standard Deviation Values: 62.364414733577, 55.848593644508, 63.830974718055, 0
Object ID Field:
Fields:
None
Default Mosaic Method: Center
Allowed Mosaic Methods:
SortField:
SortValue: null
Mosaic Operator: First
Default Compression Quality: 75
Default Resampling Method: Bilinear
Max Record Count: null
Max Image Height: 4100
Max Image Width: 15000
Max Download Image Count: null
Max Mosaic Image Count: null
Allow Raster Function: true
Allow Compute TiePoints: false
Supports Statistics: false
Supports Advanced Queries: false
Use StandardizedQueries: true
Raster Type Infos:
Name: Raster Dataset
Description: Supports all ArcGIS Raster Datasets
Help:
Has Raster Attribute Table: false
Edit Fields Info: null
Ownership Based AccessControl For Rasters: null
Child Resources:
Info
Histograms
Key Properties
Legend
MultiDimensionalInfo
rasterFunctionInfos
Supported Operations:
Export Image
Identify
Measure
Compute Histograms
Compute Statistics Histograms
Get Samples
Compute Class Statistics
Query Boundary
Compute Pixel Location