View In:
ArcGIS JavaScript
ArcGIS Online Map Viewer
ArcGIS Earth
ArcMap
View Footprint In:
ArcGIS Online Map Viewer
Service Description: Planning/MC_8_Infinity_CED_Orthomosaic
Name: Planning/MC_8_Infinity_CED_Orthomosaic
Description:
Single Fused Map Cache: false
Extent:
XMin: 636255.07752
YMin: 4000019.1579000005
XMax: 636833.11192
YMax: 4001992.1107000005
Spatial Reference: 32616
(32616)
Initial Extent:
XMin: 636255.07752
YMin: 4000019.1579000005
XMax: 636833.11192
YMax: 4001992.1107000005
Spatial Reference: 32616
(32616)
Full Extent:
XMin: 636255.07752
YMin: 4000019.1579000005
XMax: 636833.11192
YMax: 4001992.1107000005
Spatial Reference: 32616
(32616)
Pixel Size X: 0.03280000000000023
Pixel Size Y: 0.03280000000000144
Band Count: 4
Pixel Type: U8
RasterFunction Infos: {"rasterFunctionInfos": [{
"name": "None",
"description": "",
"help": ""
}]}
Mensuration Capabilities: Basic
Has Histograms: true
Has Colormap: false
Has Multi Dimensions : false
Rendering Rule:
Min Scale: 0
Max Scale: 0
Copyright Text:
Service Data Type: esriImageServiceDataTypeGeneric
Min Values: 1, 1, 1, 255
Max Values: 255, 255, 255, 255
Mean Values: 122.8768510596, 145.61956450785, 105.33271873524, 255
Standard Deviation Values: 59.423736966937, 53.15555356749, 55.693887775926, 0
Object ID Field:
Fields:
None
Default Mosaic Method: Center
Allowed Mosaic Methods:
SortField:
SortValue: null
Mosaic Operator: First
Default Compression Quality: 75
Default Resampling Method: Bilinear
Max Record Count: null
Max Image Height: 4100
Max Image Width: 15000
Max Download Image Count: null
Max Mosaic Image Count: null
Allow Raster Function: true
Allow Compute TiePoints: false
Supports Statistics: false
Supports Advanced Queries: false
Use StandardizedQueries: true
Raster Type Infos:
Name: Raster Dataset
Description: Supports all ArcGIS Raster Datasets
Help:
Has Raster Attribute Table: false
Edit Fields Info: null
Ownership Based AccessControl For Rasters: null
Child Resources:
Info
Histograms
Key Properties
Legend
MultiDimensionalInfo
rasterFunctionInfos
Supported Operations:
Export Image
Identify
Measure
Compute Histograms
Compute Statistics Histograms
Get Samples
Compute Class Statistics
Query Boundary
Compute Pixel Location