View In:
ArcGIS JavaScript
ArcGIS Online Map Viewer
ArcGIS Earth
ArcMap
View Footprint In:
ArcGIS Online Map Viewer
Service Description: MC_9_JohnsPlace
Name: Planning/MC_9_JohnsPlace_Orthomosaic
Description: MC_9_JohnsPlace
Single Fused Map Cache: false
Extent:
XMin: 632675.30159
YMin: 4002893.1101000006
XMax: 633830.93134
YMax: 4003494.3596500005
Spatial Reference: 32616
(32616)
Initial Extent:
XMin: 632675.30159
YMin: 4002893.1101000006
XMax: 633830.93134
YMax: 4003494.3596500005
Spatial Reference: 32616
(32616)
Full Extent:
XMin: 632675.30159
YMin: 4002893.1101000006
XMax: 633830.93134
YMax: 4003494.3596500005
Spatial Reference: 32616
(32616)
Pixel Size X: 0.03354999999999895
Pixel Size Y: 0.033549999999990684
Band Count: 4
Pixel Type: U8
RasterFunction Infos: {"rasterFunctionInfos": [{
"name": "None",
"description": "",
"help": ""
}]}
Mensuration Capabilities: Basic
Has Histograms: true
Has Colormap: false
Has Multi Dimensions : false
Rendering Rule:
Min Scale: 0
Max Scale: 0
Copyright Text:
Service Data Type: esriImageServiceDataTypeGeneric
Min Values: 1, 1, 1, 255
Max Values: 255, 255, 255, 255
Mean Values: 122.47637965212, 134.79668780013, 114.64458689636, 255
Standard Deviation Values: 68.668439831374, 63.131435401358, 70.490144714595, 0
Object ID Field:
Fields:
None
Default Mosaic Method: Center
Allowed Mosaic Methods:
SortField:
SortValue: null
Mosaic Operator: First
Default Compression Quality: 75
Default Resampling Method: Bilinear
Max Record Count: null
Max Image Height: 4100
Max Image Width: 15000
Max Download Image Count: null
Max Mosaic Image Count: null
Allow Raster Function: true
Allow Compute TiePoints: false
Supports Statistics: false
Supports Advanced Queries: false
Use StandardizedQueries: true
Raster Type Infos:
Name: Raster Dataset
Description: Supports all ArcGIS Raster Datasets
Help:
Has Raster Attribute Table: false
Edit Fields Info: null
Ownership Based AccessControl For Rasters: null
Child Resources:
Info
Histograms
Key Properties
Legend
MultiDimensionalInfo
rasterFunctionInfos
Supported Operations:
Export Image
Identify
Measure
Compute Histograms
Compute Statistics Histograms
Get Samples
Compute Class Statistics
Query Boundary
Compute Pixel Location